BEGIN:VCALENDAR
VERSION:2.0
METHOD:PUBLISH
BEGIN:VEVENT
DTSTART:20260319T110000
DTEND:20260319T120000
LOCATION:   
TRANSP: OPAQUE
SEQUENCE:0
UID:
DTSTAMP:20260422T145756Z
SUMMARY:Webinar z Rzecznikiem Praw Przedsiębiorców przy RIG w Katowicach - w ramach cyklu spotkań dla Firm Członkowskich
DESCRIPTION:Regionalna Izba Gospodarcza w Katowicach wraz z kancelarią KBZ Law &amp; Tax serdecznie zapraszają Firmy Członkowskie na webinar z cyklu spotkań online pod nazwą: Webinary z Rzecznikiem Praw......
URL:https://app.evenea.pl/event/cyklwebinarow2026/
PRIORITY:1
CLASS:PUBLIC
END:VEVENT
END:VCALENDAR
