BEGIN:VCALENDAR
VERSION:2.0
METHOD:PUBLISH
BEGIN:VEVENT
DTSTART:20240314T160000
DTEND:20240314T170000
LOCATION:Miejsce Otwarte. Centrum Integracji Międzykulturowej. Kraków os. Górali 24  Kraków
TRANSP: OPAQUE
SEQUENCE:0
UID:
DTSTAMP:20260423T050516Z
SUMMARY:Gimnastyka i żonglerka cyrkowa 8+ | Gymnastics and circus juggling  8+ | Гімнастика та циркове жонглювання 8+
DESCRIPTION:Grupa wiekowa: 8+ Język prowadzenia: angielski, hiszpański PL: Zapraszamy do wzięcia udziału w ekscytujących zajęciach sztuki cyrkowej! Nasi profesjonalni instruktorzy nauczą Cię, jak......
URL:https://app.evenea.pl/event/cyrkowesztuczki1403/
PRIORITY:1
CLASS:PUBLIC
END:VEVENT
END:VCALENDAR
