BEGIN:VCALENDAR
VERSION:2.0
METHOD:PUBLISH
BEGIN:VEVENT
DTSTART:20230901T180000
DTEND:20230901T180000
LOCATION:Kolonia Artystów aleja Grunwaldzka 51  Gdańsk
TRANSP: OPAQUE
SEQUENCE:0
UID:
DTSTAMP:20260421T132412Z
SUMMARY:Czarny Pokój |  RM Francis + Jung an Tagen
DESCRIPTION:Zapraszamy na piątą premierę instalacji dźwiękowej w ramach projektu pt. "Czarny pokój".W piątek 01.09.2022 o godzinie 18:00 wysłuchamy kompozycji dźwiękowej duetu JUNG AN TAGEN + RM......
URL:https://app.evenea.pl/event/cz05/
PRIORITY:1
CLASS:PUBLIC
END:VEVENT
END:VCALENDAR
