BEGIN:VCALENDAR
VERSION:2.0
METHOD:PUBLISH
BEGIN:VEVENT
DTSTART:20220408T190000
DTEND:20220408T203000
LOCATION:Restauracja Zamkowy Młyn Młyńska 3  Krapkowice
TRANSP: OPAQUE
SEQUENCE:0
UID:
DTSTAMP:20260420T174843Z
SUMMARY:Duet Czarny / Radzik akustycznie - Koncert
DESCRIPTION:Już 8 kwietnia, w piątek, koncert Duetu Czarny / Radzik w Zamkowym Młynie w Krapkowicach.Duet Czarny / Radzik akustycznie powstał z potrzeby poszukiwania ciepłego oraz akustycznego brzmienia.......
URL:https://app.evenea.pl/event/czarny-radzik/
PRIORITY:1
CLASS:PUBLIC
END:VEVENT
END:VCALENDAR
