BEGIN:VCALENDAR
VERSION:2.0
METHOD:PUBLISH
BEGIN:VEVENT
DTSTART:20210819T110000
DTEND:20210819T120000
LOCATION:link do transmisji zostanie przesłany do uczestników w wiadomości potwierdzającej rejestrację   
TRANSP: OPAQUE
SEQUENCE:0
UID:
DTSTAMP:20260420T053717Z
SUMMARY:Webinar TLA - Czwartki z WHT 3/3 - Należności licencyjne / odsetki / dywidendy
DESCRIPTION:Zapraszamy na webinarium Kancelarii TLATemat spotkania: Czwartki z WHT 3/3 - Należności licencyjne / odsetki / dywidendyZagadnienia, które omówimy podczas webinarium:Należności licencyjne......
URL:https://app.evenea.pl/event/czwartkizwht3z3/
PRIORITY:1
CLASS:PUBLIC
END:VEVENT
END:VCALENDAR
