BEGIN:VCALENDAR
VERSION:2.0
METHOD:PUBLISH
BEGIN:VEVENT
DTSTART:20241006T090000
DTEND:20241006T163000
LOCATION:Wypożyczalnia Kaja Sobieski Sobieski 8  09-131 Sobieski
TRANSP: OPAQUE
SEQUENCE:0
UID:
DTSTAMP:20260420T134544Z
SUMMARY:Akcja Czyste Rzeki Mazowsza Jesień 2024
DESCRIPTION:Już 6 października 2k24 roku po praz kolejny popłyniemy po śmieci. Przed nami kolejna edycja Akcji Czyste Rzeki Mazowsza. Tym razem w niedzielę!Dołącz do nas, weź udział w naszym......
URL:https://app.evenea.pl/event/czysterzeki2024/
PRIORITY:1
CLASS:PUBLIC
END:VEVENT
END:VCALENDAR
