BEGIN:VCALENDAR
VERSION:2.0
METHOD:PUBLISH
BEGIN:VEVENT
DTSTART:20210619T140000
DTEND:20210619T140000
LOCATION:filia nr 7 Miejskiej Biblioteki Publicznej w Szczecinie pl. Matki Teresy z Kalkuty 8  Szczecin
TRANSP: OPAQUE
SEQUENCE:0
UID:
DTSTAMP:20260419T145853Z
SUMMARY:Dzień Darmowego Komiksu 2021
DESCRIPTION:19 czerwca (sobota) zapraszamy na Dzień Darmowego Komiksu w Szczecinie. Z tej okazji przygotowaliśmy dla wszystkich miłośników powieści graficznych spotkanie z twórczynią komiksów......
URL:https://app.evenea.pl/event/d2k2021/
PRIORITY:1
CLASS:PUBLIC
END:VEVENT
END:VCALENDAR
