BEGIN:VCALENDAR
VERSION:2.0
METHOD:PUBLISH
BEGIN:VEVENT
DTSTART:20220505T170000
DTEND:20220505T170000
LOCATION:Park Naukowo-Technologiczny w Opolu Technologiczna 2  Opole
TRANSP: OPAQUE
SEQUENCE:0
UID:
DTSTAMP:20260426T005114Z
SUMMARY:Spotkanie wdrożeniowe DANONE ACCELERATION Program
DESCRIPTION:Zapraszamy na spotkanie wdrożeniowe z organizatorami DANONE ACCELERATION Program. Program jest kierowany do innowatorów, którzy ukończyli 16 rok życia i mają pomysł na wprowadzenie......
URL:https://app.evenea.pl/event/danone-acceleration-program/
PRIORITY:1
CLASS:PUBLIC
END:VEVENT
END:VCALENDAR
