BEGIN:VCALENDAR
VERSION:2.0
METHOD:PUBLISH
BEGIN:VEVENT
DTSTART:20211109T180000
DTEND:20211109T180000
LOCATION:Filia nr 7 Miejskiej Biblioteki Publicznej w Szczecinie plac Matki Teresy z Kalkuty 8  Szczecin
TRANSP: OPAQUE
SEQUENCE:0
UID:
DTSTAMP:20260423T000910Z
SUMMARY:Spotkanie z Krzysztofem Daukszewiczem oraz Violettą Ozminkowski
DESCRIPTION:9 listopada (wtorek) o godz. 18.00 filia nr 7 (Pl. Matki Teresy z Kalkuty 8) ugości powszechnie znanego satyryka oraz autora, Krzysztofa Daukszewicza, a także Violettę Ozminkowski, dziennikarkę......
URL:https://app.evenea.pl/event/daukszewicz-ozminkowski/
PRIORITY:1
CLASS:PUBLIC
END:VEVENT
END:VCALENDAR
