BEGIN:VCALENDAR
VERSION:2.0
METHOD:PUBLISH
BEGIN:VEVENT
DTSTART:20200211T093000
DTEND:20200211T140000
LOCATION:Teatr Palladium Złota 9  Warszawa
TRANSP: OPAQUE
SEQUENCE:0
UID:
DTSTAMP:20260422T122109Z
SUMMARY:Konferencja "Dzień Bezpiecznego Internetu 2020"
DESCRIPTION:Zapraszamy przedstawicieli sektora edukacyjnego, specjalistów pracujących z dziećmi i młodzieżą oraz media do wzięcia udziału w największym w Polsce cyklicznym wydarzeniu dotyczącym......
URL:https://app.evenea.pl/event/dbi2020/
PRIORITY:1
CLASS:PUBLIC
END:VEVENT
END:VCALENDAR
