BEGIN:VCALENDAR
VERSION:2.0
METHOD:PUBLISH
BEGIN:VEVENT
DTSTART:20190323T140000
DTEND:20190323T170000
LOCATION: Szczuczyńska 11 lok 17  Warszawa
TRANSP: OPAQUE
SEQUENCE:0
UID:
DTSTAMP:20260421T180155Z
SUMMARY:"DDA i DDD w miłości" cz. V - "Mój kompas życiowy - moje wartości"
DESCRIPTION:Samopoznanie i samoświadomość są kluczowe dla nawiązania dobrej relacji miłosnej. Tylko wtedy gdy dobrze znamy siebie, mamy świadomość tego, co jest dla nas ważne, jesteśmy w stanie......
URL:https://app.evenea.pl/event/dda-ddd-w-milosci-v/
PRIORITY:1
CLASS:PUBLIC
END:VEVENT
END:VCALENDAR
