BEGIN:VCALENDAR
VERSION:2.0
METHOD:PUBLISH
BEGIN:VEVENT
DTSTART:20240528T150000
DTEND:20240528T170000
LOCATION:Nadbałtyckie Centrum Kultury, Centrum św. Jana Świętojańska 50  Gdańsk
TRANSP: OPAQUE
SEQUENCE:0
UID:
DTSTAMP:20260421T132935Z
SUMMARY:Jak stworzyć sieć liderską i wzmacniać się w grupach zawodowych?
DESCRIPTION:Daj się wplątać, czyli porozmawiajmy o tym, jak stworzyć, poprowadzić i utrzymać dyrektorską sieć wsparcia. Wiele osób - również tych, które wezmą udział w Dniu Działających w......
URL:https://app.evenea.pl/event/ddwksiecliderska/
PRIORITY:1
CLASS:PUBLIC
END:VEVENT
END:VCALENDAR
