BEGIN:VCALENDAR
VERSION:2.0
METHOD:PUBLISH
BEGIN:VEVENT
DTSTART:20251028T170000
DTEND:20251028T170000
LOCATION:Fabryka Norblina ul. Żelazna 51/53  Warszawa
TRANSP: OPAQUE
SEQUENCE:0
UID:
DTSTAMP:20260423T191649Z
SUMMARY:Defence & Space Meetup
DESCRIPTION:------------------------PL version below------------------------Join the Defence Meetup! A gathering of people who want to build Poland's security through new technologies!When: October 28, 2025......
URL:https://app.evenea.pl/event/defencespacemeetup/
PRIORITY:1
CLASS:PUBLIC
END:VEVENT
END:VCALENDAR
