BEGIN:VCALENDAR
VERSION:2.0
METHOD:PUBLISH
BEGIN:VEVENT
DTSTART:20260122T120000
DTEND:20260122T120000
LOCATION:online   
TRANSP: OPAQUE
SEQUENCE:0
UID:
DTSTAMP:20260420T124628Z
SUMMARY:Webinar: Dekarbonizacja i efektywność energetyczna jako szansa dla biznesu
DESCRIPTION:Regionalna Izba Gospodarcza w Katowicach razem z Viverno zapraszają do udziału w bezpłatnym webinarze: Dekarbonizacja i efektywność energetyczna jako szansa dla biznesuFirma VIVERNO,......
URL:https://app.evenea.pl/event/dekarbonizacja2026/
PRIORITY:1
CLASS:PUBLIC
END:VEVENT
END:VCALENDAR
