BEGIN:VCALENDAR
VERSION:2.0
METHOD:PUBLISH
BEGIN:VEVENT
DTSTART:20210324T160000
DTEND:20210324T160000
LOCATION:aplikacja Zoom   
TRANSP: OPAQUE
SEQUENCE:0
UID:
DTSTAMP:20260421T142648Z
SUMMARY:Scale Up by Polska Przedsiębiorcza - Demo Day runda IV
DESCRIPTION:Zapraszamy na kolejną rundę Demo Day w formule online, która odbędzie się 24 marca 2021 o godz. 16:00. Spotkanie realizowane jest w ramach projektu ScaleUp by Polska Przedsiębiorcza, który......
URL:https://app.evenea.pl/event/demo-day-runda-4/
PRIORITY:1
CLASS:PUBLIC
END:VEVENT
END:VCALENDAR
