BEGIN:VCALENDAR
VERSION:2.0
METHOD:PUBLISH
BEGIN:VEVENT
DTSTART:20241105T170000
DTEND:20241105T210000
LOCATION:Warszawa (szczegółowe miejsce spotkania w potwierdzeniu udziału)   
TRANSP: OPAQUE
SEQUENCE:0
UID:
DTSTAMP:20260421T011049Z
SUMMARY:Spotkanie: DESTINATION IT vol. 3 - Roche Polska i #MamoPracujwIT
DESCRIPTION:[PL]Destination IT vol. 3 - Make IT happen!Chcesz rozpocząć przygodę w IT i szukasz swojej ścieżki rozwoju? Potrzebujesz indywidualnego wsparcia, aby wzmacniać kompetencje z zakresu Business......
URL:https://app.evenea.pl/event/destination-it-vol3/
PRIORITY:1
CLASS:PUBLIC
END:VEVENT
END:VCALENDAR
