BEGIN:VCALENDAR
VERSION:2.0
METHOD:PUBLISH
BEGIN:VEVENT
DTSTART:20230302T180000
DTEND:20230302T210000
LOCATION:Codewise Lubicz 17G  Kraków
TRANSP: OPAQUE
SEQUENCE:0
UID:
DTSTAMP:20260421T171515Z
SUMMARY:dev.js Kraków #9
DESCRIPTION:\n\n	⏱Data: 2 marca 2023 roku, godz. 18:00\n\n	🔵Miejsce: biuro Codewise, Lubicz 17G, Kraków\n\n\n\n	Zapraszamy na wydarzenie \n\n	dev.js Kraków #9, które odbędzie się już 2 marca 2023......
URL:https://app.evenea.pl/event/devjskrakow9/
PRIORITY:1
CLASS:PUBLIC
END:VEVENT
END:VCALENDAR
