BEGIN:VCALENDAR
VERSION:2.0
METHOD:PUBLISH
BEGIN:VEVENT
DTSTART:20231012T092000
DTEND:20231012T173000
LOCATION:Online Online  Online
TRANSP: OPAQUE
SEQUENCE:0
UID:
DTSTAMP:20260421T000155Z
SUMMARY:dev.js Summit 2023 (online) Autumn Edition
DESCRIPTION:dev.js Summit 2023 (online) Autumn Edition to największa polska konferencja poświęcona JavaScript i Front-endowi. W tym roku konferencja odbywa się w dniu 12.10.2023 roku w formie wirtualnego......
URL:https://app.evenea.pl/event/devjssummit2023autumn/
PRIORITY:1
CLASS:PUBLIC
END:VEVENT
END:VCALENDAR
