BEGIN:VCALENDAR
VERSION:2.0
METHOD:PUBLISH
BEGIN:VEVENT
DTSTART:20250410T092000
DTEND:20250410T170000
LOCATION:Online Online  Online
TRANSP: OPAQUE
SEQUENCE:0
UID:
DTSTAMP:20260423T091805Z
SUMMARY:dev.js Summit 2025 (online)
DESCRIPTION:dev.js Summit 2025 (online) to największa polska konferencja poświęcona JavaScript i Front-endowi. W tym roku konferencja odbywa się w dniu 10.04.2025 roku w formie wirtualnego eventu.......
URL:https://app.evenea.pl/event/devjssummit2025/
PRIORITY:1
CLASS:PUBLIC
END:VEVENT
END:VCALENDAR
