BEGIN:VCALENDAR
VERSION:2.0
METHOD:PUBLISH
BEGIN:VEVENT
DTSTART:20230614T180000
DTEND:20230614T213000
LOCATION:BOLEK PUB & RESTAURANT al. Niepodległości 211  Warszawa
TRANSP: OPAQUE
SEQUENCE:0
UID:
DTSTAMP:20260423T012538Z
SUMMARY:dev.js Warszawa #15
DESCRIPTION:⏱Data: 14 czerwca 2023 roku, godz. 18:00🔵Miejsce: BOLEK PUB &amp; RESTAURANT, al. Niepodległości 211, 02-086 WarszawaZapraszamy na wydarzenie dev.js Warszawa #15, które odbędzie się już......
URL:https://app.evenea.pl/event/devjswarszawa15/
PRIORITY:1
CLASS:PUBLIC
END:VEVENT
END:VCALENDAR
