BEGIN:VCALENDAR
VERSION:2.0
METHOD:PUBLISH
BEGIN:VEVENT
DTSTART:20191211T190000
DTEND:20191211T190000
LOCATION:Centrum Technologii Audiowizualnych CeTA ul. Wystawowa 1  Wrocław
TRANSP: OPAQUE
SEQUENCE:0
UID:
DTSTAMP:20260423T025224Z
SUMMARY:Pokaz "Diabła" Andrzeja Żuławskiego i prezentacja kostiumów z filmu
DESCRIPTION:Zapraszamy na kolejny pokaz w ramach obchodów 65-lecia Wytwórni Filmów Fabularnych we Wrocławiu/Centrum Technologii Audiowizualnych CeTA. Tym razem zaprezentujemy film "Diabeł" w reżyserii......
URL:https://app.evenea.pl/event/diabel/
PRIORITY:1
CLASS:PUBLIC
END:VEVENT
END:VCALENDAR
