BEGIN:VCALENDAR
VERSION:2.0
METHOD:PUBLISH
BEGIN:VEVENT
DTSTART:20200604T190000
DTEND:20200604T200000
LOCATION:G2A Arena biuro@g2aarena.pl  Rzeszów
TRANSP: OPAQUE
SEQUENCE:0
UID:
DTSTAMP:20260423T162424Z
SUMMARY:DIETA W HASHIMOTO / KONFERENCJA MEDYCZNA ONLINE/ 4 CZERWCA godz. 19:00
DESCRIPTION:G2A Arena w Twoim domu 😀 Nie możemy zaprosić Cię na konferencję do naszego obiektu, ale możemy zobaczyć się w Internecie 😁 Zapraszamy na nowy cykl konferencji online❗ Choroby......
URL:https://app.evenea.pl/event/dietahashimoto/
PRIORITY:1
CLASS:PUBLIC
END:VEVENT
END:VCALENDAR
