BEGIN:VCALENDAR
VERSION:2.0
METHOD:PUBLISH
BEGIN:VEVENT
DTSTART:20230729T090000
DTEND:20230729T090000
LOCATION:online   
TRANSP: OPAQUE
SEQUENCE:0
UID:
DTSTAMP:20260425T183058Z
SUMMARY:Coaching zdrowia | Diet coaching - certyfikowany kurs
DESCRIPTION:Zapraszamy na certyfikowany kurs "Coaching zdrowia | Diet coaching", który wyposaży Cię we wszystkie niezbędne kompetencje do prowadzenia diet coachingu. DZIĘKI UDZIAŁOWI W KURSIE:-......
URL:https://app.evenea.pl/event/dietcoachingkurs/
PRIORITY:1
CLASS:PUBLIC
END:VEVENT
END:VCALENDAR
