BEGIN:VCALENDAR
VERSION:2.0
METHOD:PUBLISH
BEGIN:VEVENT
DTSTART:20210316T110000
DTEND:20210316T120000
LOCATION:online   
TRANSP: OPAQUE
SEQUENCE:0
UID:
DTSTAMP:20260424T215137Z
SUMMARY:"Co czeka sektor MŚP w 2021 roku". Spotkanie z prof. Marianem Nogą
DESCRIPTION:Szanowni Państwo,w ramach cyklu rozmów z ekspertami Dolnośląska Izba Gospodarcza zaprasza na kolejną videokonferencję. Tym razem naszym gościem będzie Prof. zw. dr hab. Marian NogaRozmowę......
URL:https://app.evenea.pl/event/digprofmnoga/
PRIORITY:1
CLASS:PUBLIC
END:VEVENT
END:VCALENDAR
