BEGIN:VCALENDAR
VERSION:2.0
METHOD:PUBLISH
BEGIN:VEVENT
DTSTART:20201116T100000
DTEND:20201120T140000
LOCATION:Konsultacje online   
TRANSP: OPAQUE
SEQUENCE:0
UID:
DTSTAMP:20260421T161250Z
SUMMARY:Darmowe Konsultacje Listopad ŚTP - Dąbrowski Inkubator Przedsiębiorczości
DESCRIPTION:Masz pomysł na biznes?Prowadzisz już firmę i szukasz wsparcia?Prawo, księgowość, marketing, sprzedaż, reklama?Nie wiesz, które doradztwo będzie dla Ciebie najlepsze? --&gt; 533 322......
URL:https://app.evenea.pl/event/dip-listopad-stp/
PRIORITY:1
CLASS:PUBLIC
END:VEVENT
END:VCALENDAR
