BEGIN:VCALENDAR
VERSION:2.0
METHOD:PUBLISH
BEGIN:VEVENT
DTSTART:20240730T170000
DTEND:20240730T200000
LOCATION:Centrum Edukacji i Wsparcia os. Górali 24  Kraków
TRANSP: OPAQUE
SEQUENCE:0
UID:
DTSTAMP:20260423T234944Z
SUMMARY:DIY Woskowijki! | DIY Wax wrap! | Зроби сам воскову обгортку!
DESCRIPTION:Grupa wiekowa: 13+Język prowadzenia: polskiPL | Zrobimy woskowijki, woskowe - owijki do żywności, które są w pełni ekologiczne i bezpieczne dla jedzenia. W planach również prelekcja o......
URL:https://app.evenea.pl/event/diywoskowijki/
PRIORITY:1
CLASS:PUBLIC
END:VEVENT
END:VCALENDAR
