BEGIN:VCALENDAR
VERSION:2.0
METHOD:PUBLISH
BEGIN:VEVENT
DTSTART:20230426T170000
DTEND:20230426T200000
LOCATION:Wschodnioeuropejska Akademia Nauk Stosowanych w Białymstoku ul.Ciepła 40  Białystok
TRANSP: OPAQUE
SEQUENCE:0
UID:
DTSTAMP:20260425T193018Z
SUMMARY:Odporność psychiczna - kluczowa kompetencja przyszłości
DESCRIPTION:Odporność psychiczna - kluczowa kompetencja przyszłościCEL SPOTKANIA:- Zapoznanie uczestniczących z koncepcją modelu 4C MTQ Plus jako narzędziem do pomiaru Odporności Psychicznej-......
URL:https://app.evenea.pl/event/dkcbialystok26042023/
PRIORITY:1
CLASS:PUBLIC
END:VEVENT
END:VCALENDAR
