BEGIN:VCALENDAR
VERSION:2.0
METHOD:PUBLISH
BEGIN:VEVENT
DTSTART:20240119T170000
DTEND:20240119T200000
LOCATION:Rzeszów ul. Fircowskiego 4/3  35-030 Rzeszów
TRANSP: OPAQUE
SEQUENCE:0
UID:
DTSTAMP:20260421T083212Z
SUMMARY:Narzędzia coachingowe - wsparcie pracy coacha
DESCRIPTION:Zapraszamy na spotkanie, z cyklu Dyskusyjny Klub Coacha, organizowane przez Oddział Podkarpacki Izby Coachingu.NARZĘDZIA COACHINGOWE - WSPARCIE PRACY COACHATo zapowiedź naszego kolejnego......
URL:https://app.evenea.pl/event/dkcrzeszow19012024/
PRIORITY:1
CLASS:PUBLIC
END:VEVENT
END:VCALENDAR
