BEGIN:VCALENDAR
VERSION:2.0
METHOD:PUBLISH
BEGIN:VEVENT
DTSTART:20260523T100000
DTEND:20260523T180000
LOCATION:Instytut Wiedzy Waleologicznej ul. Kolejowa 2 bud. 4  Plewiska
TRANSP: OPAQUE
SEQUENCE:0
UID:
DTSTAMP:20260420T003810Z
SUMMARY:DLACZEGO CHORUJĘ? Warsztat wg Ustawień Berta Hellingera i Totalnej Biologii® - Małgorzata Wagner
DESCRIPTION:Warsztaty Ustawień Systemowych Berta Hellingera i Totalnej Biologii® - Małgorzata Wagner DLACZEGO CHORUJĘ? wg Ustawień Berta Hellingera i Totalnej Biologii® 📅 Termin: 23 maja, godz.......
URL:https://app.evenea.pl/event/dlaczego-choruje/
PRIORITY:1
CLASS:PUBLIC
END:VEVENT
END:VCALENDAR
