BEGIN:VCALENDAR
VERSION:2.0
METHOD:PUBLISH
BEGIN:VEVENT
DTSTART:20231014T200000
DTEND:20231209T200000
LOCATION:Kolonia Artystów Aleja Grunwaldzka 51  Gdańsk
TRANSP: OPAQUE
SEQUENCE:0
UID:
DTSTAMP:20260423T164028Z
SUMMARY:DNA Festiwal 2023
DESCRIPTION:DNA Festiwal 2023 to święto muzyki, na które składają się z 5 koncertów w okresie jesienno - zimowym.W tym roku postanowiliśmy rozłożyć koncerty na 3 miesiące: październik, listopad,......
URL:https://app.evenea.pl/event/dna2023/
PRIORITY:1
CLASS:PUBLIC
END:VEVENT
END:VCALENDAR
