BEGIN:VCALENDAR
VERSION:2.0
METHOD:PUBLISH
BEGIN:VEVENT
DTSTART:20230908T190000
DTEND:20230910T190000
LOCATION:Muzeum Narodowe w Szczecinie Wały Chrobrego 3  Szczecin
TRANSP: OPAQUE
SEQUENCE:0
UID:
DTSTAMP:20260424T185533Z
SUMMARY:Dni Muzyki Żydowskiej w Szczecinie | 8 - 10 września 2023
DESCRIPTION:We wrześniu i październiku 2023 zapraszamy na szóstą edycję festiwalu, obejmującą w tym roku aż cztery premiery!Premiera płyty z twórczością Ety Trymand, pieśni sefardyjskie w......
URL:https://app.evenea.pl/event/dnimuzykizydowskiej2023/
PRIORITY:1
CLASS:PUBLIC
END:VEVENT
END:VCALENDAR
