BEGIN:VCALENDAR
VERSION:2.0
METHOD:PUBLISH
BEGIN:VEVENT
DTSTART:20251020T100000
DTEND:20251024T170000
LOCATION:World Trade Center Poznań ul. Bukowska 12  Poznań
TRANSP: OPAQUE
SEQUENCE:0
UID:
DTSTAMP:20260425T151417Z
SUMMARY:Dni Przedsiębiorczości Poznań 2025
DESCRIPTION:Dni Przedsiębiorczości Poznań 2025Jubileuszowa, 15. edycja już w październiku!W dniach od 20 do 24 października 2025 r. odbędzie się w Poznaniu jubileuszowa, 15. edycja Dni......
URL:https://app.evenea.pl/event/dniprzedsiebiorczoscipoznan/
PRIORITY:1
CLASS:PUBLIC
END:VEVENT
END:VCALENDAR
