BEGIN:VCALENDAR
VERSION:2.0
METHOD:PUBLISH
BEGIN:VEVENT
DTSTART:20251201T190000
DTEND:20251201T190000
LOCATION:Białostocki Teatr Lalek Konstantego Kalinowskiego 1,  Białystok
TRANSP: OPAQUE
SEQUENCE:0
UID:
DTSTAMP:20260420T152059Z
SUMMARY:DNO
DESCRIPTION:DNOwystępują: Dorota Baranowska, Karolina Czarnecka, Paula Czarneckapomysł i koncepcja: Paula Czarneckascenariusz, reżyseria: Karolina Czarneckachoreografia: Dorota Baranowskakostiumy:......
URL:https://app.evenea.pl/event/dnopremiera/
PRIORITY:1
CLASS:PUBLIC
END:VEVENT
END:VCALENDAR
