BEGIN:VCALENDAR
VERSION:2.0
METHOD:PUBLISH
BEGIN:VEVENT
DTSTART:20210619T180000
DTEND:20210619T180000
LOCATION:Dobre Miejsce - Katolickie Centrum Kultury Dewajtis 3 (wej.B)  Warszawa
TRANSP: OPAQUE
SEQUENCE:0
UID:
DTSTAMP:20260424T184121Z
SUMMARY:DOBRY ŁOTR - pokaz filmowy
DESCRIPTION:Zapraszamy na pokaz filmu Dobry Łotr. Pierwszy raz w Dobrym Miejscu. Epicka opowieść o człowieku, który został ukrzyżowany obok Jezusa. Dobry Łotr prowokuje do bardzo osobistych......
URL:https://app.evenea.pl/event/dobrylotr/
PRIORITY:1
CLASS:PUBLIC
END:VEVENT
END:VCALENDAR
