BEGIN:VCALENDAR
VERSION:2.0
METHOD:PUBLISH
BEGIN:VEVENT
DTSTART:20251003T170000
DTEND:20251003T183000
LOCATION:Książnica Pomorska Podgórna 15/16  Szczecin
TRANSP: OPAQUE
SEQUENCE:0
UID:
DTSTAMP:20260423T233011Z
SUMMARY:Warsztaty "Dobrze się składa!"
DESCRIPTION:📄✨ Warsztaty "Dobrze się składa!" ✨📄Lubisz tworzyć coś z niczego? A może chcesz się przekonać, jak zwykła kartka papieru może zamienić się w żabę, pieska albo fantazyjny......
URL:https://app.evenea.pl/event/dobrzesiesklada/
PRIORITY:1
CLASS:PUBLIC
END:VEVENT
END:VCALENDAR
