BEGIN:VCALENDAR
VERSION:2.0
METHOD:PUBLISH
BEGIN:VEVENT
DTSTART:20240510T083000
DTEND:20240510T083000
LOCATION:Podkarpacki Park Biznesowy [poziom 1, sala 102] 36-002 Jasionka 954 BA  Jasionka
TRANSP: OPAQUE
SEQUENCE:0
UID:
DTSTAMP:20260420T192835Z
SUMMARY:DOFE #Marketing Meeting - wiedza & mentoring. Uczestnik.
DESCRIPTION:Nazwa wydarzenia: DOFE #Marketing Meeting Data wydarzenia: 10 maja 2024 Godzina rozpoczęcia: 8:30 Lokalizacja: Podkarpacki Park Biznesowy, 36-002 Jasionka 954 BA [poziom 1, sala 102]Zapraszamy na......
URL:https://app.evenea.pl/event/dofemeeting/
PRIORITY:1
CLASS:PUBLIC
END:VEVENT
END:VCALENDAR
