BEGIN:VCALENDAR
VERSION:2.0
METHOD:PUBLISH
BEGIN:VEVENT
DTSTART:20260421T170000
DTEND:20260421T170000
LOCATION:Filharmonia Podkarpacka ul. Chopina 30  Rzeszów
TRANSP: OPAQUE
SEQUENCE:0
UID:
DTSTAMP:20260423T151908Z
SUMMARY:Dokąd zmierza świat? ks. prof. Michał Heller, prof. Piotr Kłodkowski, dr Jacek Stawiski
DESCRIPTION:Wyższa Szkoła Informatyki i Zarządzania w Rzeszowie zaprasza na spotkanie w ramach cyklu "Wielkie Pytania w Nauce" pt. "Dokąd zmierza świat?", które odbędzie się 21 kwietnia 2026 r.......
URL:https://app.evenea.pl/event/dokadzmierzaswiat/
PRIORITY:1
CLASS:PUBLIC
END:VEVENT
END:VCALENDAR
