BEGIN:VCALENDAR
VERSION:2.0
METHOD:PUBLISH
BEGIN:VEVENT
DTSTART:20241015T100000
DTEND:20241015T100000
LOCATION:Plus Jeden Poznań Za Bramką 1  61-842 Poznań
TRANSP: OPAQUE
SEQUENCE:0
UID:
DTSTAMP:20260419T164722Z
SUMMARY:Dołącz do rewolucji AI! Jak odpowiedzialnie wdrażać AI w organizacji
DESCRIPTION:W dzisiejszym dynamicznie zmieniającym się świecie AI odgrywa coraz ważniejszą rolę. Konieczne jest zdobycie umiejętności integracji zaawansowanych technologii z nowoczesnymi metodami......
URL:https://app.evenea.pl/event/dolaczdorewolucjiai/
PRIORITY:1
CLASS:PUBLIC
END:VEVENT
END:VCALENDAR
