BEGIN:VCALENDAR
VERSION:2.0
METHOD:PUBLISH
BEGIN:VEVENT
DTSTART:20221022T170000
DTEND:20221022T170000
LOCATION:Online   
TRANSP: OPAQUE
SEQUENCE:0
UID:
DTSTAMP:20260420T121452Z
SUMMARY:Noc Innowacji 2022 Dolby Poland Sp. z o.o.
DESCRIPTION:\n\n	Dolby Laboratories, dzięki przełomowym badaniom w dziedzinie nauki i inżynierii, zmienia odbiór dźwięku i obrazu w wyjątkowe doświadczenia. Dolby tworzy technologie dźwiękowe,......
URL:https://app.evenea.pl/event/dolbynocinnowacji2022/
PRIORITY:1
CLASS:PUBLIC
END:VEVENT
END:VCALENDAR
