BEGIN:VCALENDAR
VERSION:2.0
METHOD:PUBLISH
BEGIN:VEVENT
DTSTART:20240827T170000
DTEND:20240827T200000
LOCATION:Centrum Edukacji i Wsparcia os. Górali 24  Kraków
TRANSP: OPAQUE
SEQUENCE:0
UID:
DTSTAMP:20260423T234319Z
SUMMARY:Prosty domek dla owadów | Simple house for insects | Простий будиночок для комах
DESCRIPTION:Grupa wiekowa: 13+ latJęzyk prowadzenia: polskiPL | Podczas ostatniego spotkania z cyklu wykonamy domek dla owadów zrobiony z gliny i patyczków, idealny np do postawienia na działce. W planach......
URL:https://app.evenea.pl/event/domekdlaowadow/
PRIORITY:1
CLASS:PUBLIC
END:VEVENT
END:VCALENDAR
