BEGIN:VCALENDAR
VERSION:2.0
METHOD:PUBLISH
BEGIN:VEVENT
DTSTART:20240319T180000
DTEND:20240319T180000
LOCATION:Centrum Edukacji i Wsparcia os. Górali 24  Kraków
TRANSP: OPAQUE
SEQUENCE:0
UID:
DTSTAMP:20260423T045521Z
SUMMARY:Podróż dookoła świata - Egipt | Travel all around the world - Egypt | Подорож навколо світу - Єгипет
DESCRIPTION:Grupa wiekowa: dla wszystkichJęzyk prowadzenia: angielski z możliwością tłumaczenia na język polskiPL | 🐫Jeżeli marzycie o przeniesieniu się choć na chwilę do ciepłego kraju,......
URL:https://app.evenea.pl/event/dookolaswiataegipt/
PRIORITY:1
CLASS:PUBLIC
END:VEVENT
END:VCALENDAR
