BEGIN:VCALENDAR
VERSION:2.0
METHOD:PUBLISH
BEGIN:VEVENT
DTSTART:20240423T180000
DTEND:20240423T180000
LOCATION:Centrum Edukacji i Wsparcia os. Górali 24  Kraków
TRANSP: OPAQUE
SEQUENCE:0
UID:
DTSTAMP:20260423T050148Z
SUMMARY:Podróż dookoła świata - Grecja | Travel all around the world - Greece | Подорож навколо світу - Греція
DESCRIPTION:Grupa wiekowa: dla wszystkichJęzyk prowadzenia: angielski z możliwością tłumaczenia na język polskiPL | 🏛🏺🧿Ktoś już marzy o lecie i wakacjach? Tym razem wybierzemy się do Grecji,......
URL:https://app.evenea.pl/event/dookolaswiatagrecja/
PRIORITY:1
CLASS:PUBLIC
END:VEVENT
END:VCALENDAR
