BEGIN:VCALENDAR
VERSION:2.0
METHOD:PUBLISH
BEGIN:VEVENT
DTSTART:20241202T180000
DTEND:20241202T190000
LOCATION:Centrum Edukacji i Wsparcia os. Górali 24  Kraków
TRANSP: OPAQUE
SEQUENCE:0
UID:
DTSTAMP:20260423T175425Z
SUMMARY:Podróż dookoła świata - Hiszpania | Travel all around the world - Spain | Подорож навколо світу - Іспанія
DESCRIPTION:Grupa wiekowa: dla wszystkichJęzyk prowadzenia: polskiMarzy Wam się przeniesienie w ciepłe kraje? Dzięki przysmakom hiszpańskiej kuchni oraz opowieściom Anny o jej rodzinnych stronach......
URL:https://app.evenea.pl/event/dookolaswiatahiszpania1/
PRIORITY:1
CLASS:PUBLIC
END:VEVENT
END:VCALENDAR
