BEGIN:VCALENDAR
VERSION:2.0
METHOD:PUBLISH
BEGIN:VEVENT
DTSTART:20241021T180000
DTEND:20241021T190000
LOCATION:Centrum Edukacji i Wsparcia os. Górali 24  Kraków
TRANSP: OPAQUE
SEQUENCE:0
UID:
DTSTAMP:20260423T175321Z
SUMMARY:Podróż dookoła świata - Kazachstan | Travel all around the world - Kazakhstan | Подорож навколо світу - Казахстан
DESCRIPTION:Grupa wiekowa: dla wszystkichJęzyk prowadzenia: polskiZapraszamy na wyjątkowe spotkanie poświęcone atrakcjom Kazachstanu, jego kulturze i tradycjom!O pięknie tego azjatyckiego kraju opowie na......
URL:https://app.evenea.pl/event/dookolaswiatakazachstan/
PRIORITY:1
CLASS:PUBLIC
END:VEVENT
END:VCALENDAR
