BEGIN:VCALENDAR
VERSION:2.0
METHOD:PUBLISH
BEGIN:VEVENT
DTSTART:20240409T180000
DTEND:20240409T180000
LOCATION:Centrum Edukacji i Wsparcia os. Górali 24  Kraków
TRANSP: OPAQUE
SEQUENCE:0
UID:
DTSTAMP:20260423T050208Z
SUMMARY:Podróż dookoła świata - Turcja | Travel all around the world - Turkey | Подорож навколо світу - Туреччина
DESCRIPTION:Grupa wiekowa: dla wszystkichJęzyk prowadzenia: angielski z możliwością tłumaczenia na język polskiPL | ☪ Podczas spotkania przeniesiemy się do Turcji, kraju słynącego z przypraw,......
URL:https://app.evenea.pl/event/dookolaswiataturcja/
PRIORITY:1
CLASS:PUBLIC
END:VEVENT
END:VCALENDAR
