BEGIN:VCALENDAR
VERSION:2.0
METHOD:PUBLISH
BEGIN:VEVENT
DTSTART:20240326T180000
DTEND:20240326T180000
LOCATION:Centrum Edukacji i Wsparcia os. Górali 24  Kraków
TRANSP: OPAQUE
SEQUENCE:0
UID:
DTSTAMP:20260423T050147Z
SUMMARY:Podróż dookoła świata - Węgry | Travel all around the world - Hungary | Подорож навколо світу - Угорщина
DESCRIPTION:Grupa wiekowa: dla wszystkichJęzyk prowadzenia: angielski z możliwością tłumaczenia na język polskiPL | Tym razem wybierzemy się do Węgier i poznamy ciekawostki dotyczące historii oraz......
URL:https://app.evenea.pl/event/dookolaswiatawegry/
PRIORITY:1
CLASS:PUBLIC
END:VEVENT
END:VCALENDAR
