BEGIN:VCALENDAR
VERSION:2.0
METHOD:PUBLISH
BEGIN:VEVENT
DTSTART:20231110T170000
DTEND:20231110T170000
LOCATION:Filia nr 7 Miejskiej Biblioteki Publicznej w Szczecinie plac Matki Teresy z Kalkuty 8  Szczecin
TRANSP: OPAQUE
SEQUENCE:0
UID:
DTSTAMP:20260422T061323Z
SUMMARY:Warsztaty pisania opowiadań — od pierwszego zdania do ostatniej kropki
DESCRIPTION:Celem warsztatów jest napisanie opowiadania lub jego konspektu. Uczę początkujących autorów, w jaki sposób tworzyć świadomie i w zgodzie ze sobą. Jestem wielokrotną laureatką konkursów......
URL:https://app.evenea.pl/event/doostatniejkropki/
PRIORITY:1
CLASS:PUBLIC
END:VEVENT
END:VCALENDAR
