BEGIN:VCALENDAR
VERSION:2.0
METHOD:PUBLISH
BEGIN:VEVENT
DTSTART:20250716T100000
DTEND:20250716T110000
LOCATION:online   
TRANSP: OPAQUE
SEQUENCE:0
UID:
DTSTAMP:20260419T205858Z
SUMMARY:AI w Twoim biznesie - konsultacje indywidualne
DESCRIPTION:Sztuczna inteligencja może stać się kluczowym elementem rozwoju Twojego biznesu - ale jak zrobić to dobrze? Jeśli zastanawiasz się, jak wdrożyć AI w swojej firmie, jakie technologie wybrać......
URL:https://app.evenea.pl/event/doradztwoailipiec25/
PRIORITY:1
CLASS:PUBLIC
END:VEVENT
END:VCALENDAR
