BEGIN:VCALENDAR
VERSION:2.0
METHOD:PUBLISH
BEGIN:VEVENT
DTSTART:20241024T163000
DTEND:20241024T173000
LOCATION:online   
TRANSP: OPAQUE
SEQUENCE:0
UID:
DTSTAMP:20260419T210026Z
SUMMARY:Konsultacje i doradztwo AI
DESCRIPTION:Zapisz się na konsultacje i doradztwo AI z Automation House.Nasze spotkania są szczególnie skierowane do startupów, które chcą dynamicznie rozwijać się i osiągać przewagę konkurencyjną.......
URL:https://app.evenea.pl/event/doradztwoaipazdziernik/
PRIORITY:1
CLASS:PUBLIC
END:VEVENT
END:VCALENDAR
