BEGIN:VCALENDAR
VERSION:2.0
METHOD:PUBLISH
BEGIN:VEVENT
DTSTART:20220321T170000
DTEND:20220413T110000
LOCATION:online   
TRANSP: OPAQUE
SEQUENCE:0
UID:
DTSTAMP:20260420T080555Z
SUMMARY:Doradztwo dla start-upów. Od pomysłu do wdrożenia - konsultacje indywidualne on-line
DESCRIPTION:Podczas konsultacji eksperci:ocenią pomysły pod kątem wdrożenia na rynekdoradzą w sprawie finansowania projektówpomogą w pozostałych aspektach rozpoczynania i prowadzenia działalności......
URL:https://app.evenea.pl/event/doradztwoinqubekwiecien22/
PRIORITY:1
CLASS:PUBLIC
END:VEVENT
END:VCALENDAR
